BEGIN:VCALENDAR
VERSION:2.0
PRODID:-//&Eacute;rd &eacute;s K&ouml;rny&eacute;ke Ipartest&uuml;let - ECPv6.15.11//NONSGML v1.0//EN
CALSCALE:GREGORIAN
METHOD:PUBLISH
X-ORIGINAL-URL:https://ipterd.hu
X-WR-CALDESC:Események &Eacute;rd &eacute;s K&ouml;rny&eacute;ke Ipartest&uuml;let
REFRESH-INTERVAL;VALUE=DURATION:PT1H
X-Robots-Tag:noindex
X-PUBLISHED-TTL:PT1H
BEGIN:VTIMEZONE
TZID:UTC
BEGIN:STANDARD
TZOFFSETFROM:+0000
TZOFFSETTO:+0000
TZNAME:UTC
DTSTART:20240101T000000
END:STANDARD
END:VTIMEZONE
BEGIN:VEVENT
DTSTART;TZID=UTC:20250903T160000
DTEND;TZID=UTC:20250903T200000
DTSTAMP:20260419T123114
CREATED:20250922T083226Z
LAST-MODIFIED:20250922T083226Z
UID:918-1756915200-1756929600@ipterd.hu
SUMMARY:III. IPTÉrd Darts bajnokság – 1. forduló
DESCRIPTION:
URL:https://ipterd.hu/esemenyek-naptar/iii-ipterd-darts-bajnoksag-1-fordulo/
LOCATION:Érd Aréna – hátsó darts terem\, Velencei út 39-41.\, Érd\, 2030\, Hungary
END:VEVENT
BEGIN:VEVENT
DTSTART;TZID=UTC:20250909T080000
DTEND;TZID=UTC:20250909T110000
DTSTAMP:20260419T123114
CREATED:20250922T083136Z
LAST-MODIFIED:20250922T085506Z
UID:916-1757404800-1757415600@ipterd.hu
SUMMARY:1. Vállalkozói reggeli Százhalombatta
DESCRIPTION:Az előadás a százhalombattai Ebatta Cukrászda és Kávéházban lesz\, a meghívott vendégünk Vezér Mihály polgármester úr.
URL:https://ipterd.hu/esemenyek-naptar/1-vallalkozoi-reggeli-szazhalombatta/
LOCATION:Ebatta\, Damjanich u. 16.\, Százhalombatta\, 2440\, Hungary
END:VEVENT
BEGIN:VEVENT
DTSTART;TZID=UTC:20250910T170000
DTEND;TZID=UTC:20250910T200000
DTSTAMP:20260419T123114
CREATED:20250922T082922Z
LAST-MODIFIED:20250922T085741Z
UID:913-1757523600-1757534400@ipterd.hu
SUMMARY:4. Kerekasztal beszélgetés
DESCRIPTION:Ezen az alkalmon Tóth-Czere Péter előadását hallgathatjuk meg az AI témakörben\, Személyes hatékonyság növelése az AI segítségével a mindennapi munkában címmel. Az előadás után egy vezetett beszélgetés és információcsere következik a témában\, ahol mindenki felteheti kérdéseit\, megoszthatja tapasztalatait\, majd pedig egy svédasztalos vacsorával zárjuk az estét. \nAz előadásról egy kis kedvcsináló: \n„Olyan megoldásokat keresünk nap\, mint nap\, amikkel időt tudunk spórolni. De olyat is\, amivel hatékonyabban tudunk dolgozni ugyanannyi idő alatt. Ez a két eszköz van minden cégvezetőnek\, vállalkozónak a kezében\, hogy csodát tegyen. \nAz AI korszakában ez olyan kihívás\, amit: \n\nNagyon könnyű meglépni\, hiszen óriási kapacitás áll rendelkezésre\, bármit szeretnénk. Legyen az egy tökéletes szöveg\, vagy az éves adatok elemzése\, de akár egy videó\, amin ejtőernyőzés közben mondod el Te magad\, hogy miért vagy nagyon jó asztalos mester. A határ tényleg csak a kreativitásunk\, mindez ráadásul tanulható!\nNagyon nehéz meglépni\, mert ki kell lépni a komfortzónából\, új dolgokat kell kipróbálni\, megtanulni és bevezetni napi szinten.\n\nAmiben én tudok segíteni\, hogy miként tudtok ezek közül a lehetőségek közül választani\, hogyan kell értékelni a hatékonyság fogalmát és milyen eszközök állnak rendelkezésre nap\, mint nap – amiket én is használok\, hogy hatékonyabb cégvezető legyen. Jobb szövegek\, gyorsabb emailek\, pontosabb adatok. Ezek az alapok\, amikre fel lehet”
URL:https://ipterd.hu/esemenyek-naptar/4-kerekasztal-beszelgetes/
LOCATION:Festal Étterem\, Dávid u. 4.\, Érd\, 2030\, Hungary
END:VEVENT
BEGIN:VEVENT
DTSTART;TZID=UTC:20250926T080000
DTEND;TZID=UTC:20250926T110000
DTSTAMP:20260419T123114
CREATED:20231220T100326Z
LAST-MODIFIED:20250922T085348Z
UID:412-1758873600-1758884400@ipterd.hu
SUMMARY:4. Vállalkozói reggeli
DESCRIPTION:Bár AI őszt hirdettünk\, egy nagyon aktuális téma közbeszólt\, ugyanis hamarosan élesedik Érd új Helyi Építési Szabályzata. Ennek értelmében ezúttal vendégünk Szűcs Gábor alpolgármester\, valamint Varga Melinda főépítés lesz\, akik egy rövid tájékoztató keretében bemutatják Érd jövőbeni építési lehetőségeit.
URL:https://ipterd.hu/esemenyek-naptar/4-vallalkozoi-reggeli/
LOCATION:Irish Dog Pub\, Antal u. 17.\, Érd\, 2030\, Hungary
END:VEVENT
BEGIN:VEVENT
DTSTART;TZID=UTC:20250930T170000
DTEND;TZID=UTC:20250930T190000
DTSTAMP:20260419T123114
CREATED:20250922T083446Z
LAST-MODIFIED:20250922T083446Z
UID:920-1759251600-1759258800@ipterd.hu
SUMMARY:9. Elnökségi
DESCRIPTION:
URL:https://ipterd.hu/esemenyek-naptar/9-elnoksegi/
END:VEVENT
END:VCALENDAR